BEGIN:VCALENDAR
VERSION:2.0
CALSCALE:GREGORIAN
PRODID:adamgibbons/ics
METHOD:PUBLISH
X-PUBLISHED-TTL:PT1H
BEGIN:VEVENT
UID:20432@offbeat.amsterdam
SUMMARY:Collective and creative translation workshop of Kim Hyesoon's 'Auto
	biography of Death'
DTSTAMP:20260421T090900Z
DTSTART:20260510T100000Z
URL:https://offbeat.amsterdam/event/collective-and-creative-translation-wor
	kshop-of-kim-hyesoons-autobiography-of-death
GEO:52.3689174;4.896321
LOCATION:Perdu - Kloveniersburgwal 86\, 1012 CZ Amsterdam
STATUS:CONFIRMED
CATEGORIES:amsterdam-centrum,burgwallen,discussion,multilingual,perdu progr
	amme,workshop
END:VEVENT
END:VCALENDAR
